BEGIN:VCALENDAR
VERSION:2.0
PRODID:-//KRCC Better Together - ECPv6.15.20//NONSGML v1.0//EN
CALSCALE:GREGORIAN
METHOD:PUBLISH
X-ORIGINAL-URL:https://krcctogether.com
X-WR-CALDESC:Events for KRCC Better Together
REFRESH-INTERVAL;VALUE=DURATION:PT1H
X-Robots-Tag:noindex
X-PUBLISHED-TTL:PT1H
BEGIN:VTIMEZONE
TZID:UTC
BEGIN:STANDARD
TZOFFSETFROM:+0000
TZOFFSETTO:+0000
TZNAME:UTC
DTSTART:20240101T000000
END:STANDARD
END:VTIMEZONE
BEGIN:VEVENT
DTSTART;TZID=UTC:20251021T110000
DTEND;TZID=UTC:20251021T113000
DTSTAMP:20260424T024042
CREATED:20250930T145133Z
LAST-MODIFIED:20250930T145134Z
UID:3006-1761044400-1761046200@krcctogether.com
SUMMARY:Brenda Teaches a Craft
DESCRIPTION:
URL:https://krcctogether.com/event/brenda-teaches-a-craft/
ORGANIZER;CN="KRCC Better Together":MAILTO:rolanda.gibson@krccnet.com
END:VEVENT
END:VCALENDAR