BEGIN:VCALENDAR
VERSION:2.0
PRODID:-//KRCC Better Together - ECPv6.15.20//NONSGML v1.0//EN
CALSCALE:GREGORIAN
METHOD:PUBLISH
X-ORIGINAL-URL:https://krcctogether.com
X-WR-CALDESC:Events for KRCC Better Together
REFRESH-INTERVAL;VALUE=DURATION:PT1H
X-Robots-Tag:noindex
X-PUBLISHED-TTL:PT1H
BEGIN:VTIMEZONE
TZID:UTC
BEGIN:STANDARD
TZOFFSETFROM:+0000
TZOFFSETTO:+0000
TZNAME:UTC
DTSTART:20240101T000000
END:STANDARD
END:VTIMEZONE
BEGIN:VEVENT
DTSTART;TZID=UTC:20251208T110000
DTEND;TZID=UTC:20251208T113000
DTSTAMP:20260423T231720
CREATED:20251202T061119Z
LAST-MODIFIED:20251202T061120Z
UID:3078-1765191600-1765193400@krcctogether.com
SUMMARY:National Crossword Solvers Day
DESCRIPTION:https://www.nationaldaycalendar.com/national-day/national-crossword-solvers-day-december-8
URL:https://krcctogether.com/event/national-crossword-solvers-day/
ORGANIZER;CN="KRCC Better Together":MAILTO:rolanda.gibson@krccnet.com
END:VEVENT
END:VCALENDAR