BEGIN:VCALENDAR
VERSION:2.0
PRODID:-//KRCC Better Together - ECPv6.15.20//NONSGML v1.0//EN
CALSCALE:GREGORIAN
METHOD:PUBLISH
X-ORIGINAL-URL:https://krcctogether.com
X-WR-CALDESC:Events for KRCC Better Together
REFRESH-INTERVAL;VALUE=DURATION:PT1H
X-Robots-Tag:noindex
X-PUBLISHED-TTL:PT1H
BEGIN:VTIMEZONE
TZID:UTC
BEGIN:STANDARD
TZOFFSETFROM:+0000
TZOFFSETTO:+0000
TZNAME:UTC
DTSTART:20250101T000000
END:STANDARD
END:VTIMEZONE
BEGIN:VEVENT
DTSTART;TZID=UTC:20260108T110000
DTEND;TZID=UTC:20260108T113000
DTSTAMP:20260423T213549
CREATED:20260105T060244Z
LAST-MODIFIED:20260105T060245Z
UID:3129-1767870000-1767871800@krcctogether.com
SUMMARY:National English Toffee Day
DESCRIPTION:https://www.nationaldaycalendar.com/national-day/national-english-toffee-day-january-8
URL:https://krcctogether.com/event/national-english-toffee-day/
ORGANIZER;CN="KRCC Better Together":MAILTO:rolanda.gibson@krccnet.com
END:VEVENT
END:VCALENDAR