BEGIN:VCALENDAR
VERSION:2.0
PRODID:-//KRCC Better Together - ECPv6.15.20//NONSGML v1.0//EN
CALSCALE:GREGORIAN
METHOD:PUBLISH
X-WR-CALNAME:KRCC Better Together
X-ORIGINAL-URL:https://krcctogether.com
X-WR-CALDESC:Events for KRCC Better Together
REFRESH-INTERVAL;VALUE=DURATION:PT1H
X-Robots-Tag:noindex
X-PUBLISHED-TTL:PT1H
BEGIN:VTIMEZONE
TZID:UTC
BEGIN:STANDARD
TZOFFSETFROM:+0000
TZOFFSETTO:+0000
TZNAME:UTC
DTSTART:20250101T000000
END:STANDARD
END:VTIMEZONE
BEGIN:VEVENT
DTSTART;TZID=UTC:20260123T110000
DTEND;TZID=UTC:20260123T113000
DTSTAMP:20260423T213438
CREATED:20260105T061334Z
LAST-MODIFIED:20260105T061334Z
UID:3153-1769166000-1769167800@krcctogether.com
SUMMARY:National Pie Day
DESCRIPTION:https://www.nationaldaycalendar.com/national-day/national-pie-day-january-23
URL:https://krcctogether.com/event/national-pie-day-4/
ORGANIZER;CN="KRCC Better Together":MAILTO:rolanda.gibson@krccnet.com
END:VEVENT
END:VCALENDAR