BEGIN:VCALENDAR
VERSION:2.0
PRODID:-//KRCC Better Together - ECPv6.15.20//NONSGML v1.0//EN
CALSCALE:GREGORIAN
METHOD:PUBLISH
X-WR-CALNAME:KRCC Better Together
X-ORIGINAL-URL:https://krcctogether.com
X-WR-CALDESC:Events for KRCC Better Together
REFRESH-INTERVAL;VALUE=DURATION:PT1H
X-Robots-Tag:noindex
X-PUBLISHED-TTL:PT1H
BEGIN:VTIMEZONE
TZID:UTC
BEGIN:STANDARD
TZOFFSETFROM:+0000
TZOFFSETTO:+0000
TZNAME:UTC
DTSTART:20250101T000000
END:STANDARD
END:VTIMEZONE
BEGIN:VEVENT
DTSTART;TZID=UTC:20260211T110000
DTEND;TZID=UTC:20260211T113000
DTSTAMP:20260423T200211
CREATED:20260203T043733Z
LAST-MODIFIED:20260203T043733Z
UID:3183-1770807600-1770809400@krcctogether.com
SUMMARY:Don't Cry Over Spilled Milk
DESCRIPTION:https://www.nationaldaycalendar.com/national-day/national-peppermint-patty-day-february-11 & https://www.nationaldaycalendar.com/national-day/national-dont-cry-over-spilled-milk-day-february-11  
URL:https://krcctogether.com/event/dont-cry-over-spilled-milk/
ORGANIZER;CN="KRCC Better Together":MAILTO:rolanda.gibson@krccnet.com
END:VEVENT
END:VCALENDAR