BEGIN:VCALENDAR
VERSION:2.0
PRODID:-//KRCC Better Together - ECPv6.15.20//NONSGML v1.0//EN
CALSCALE:GREGORIAN
METHOD:PUBLISH
X-ORIGINAL-URL:https://krcctogether.com
X-WR-CALDESC:Events for KRCC Better Together
REFRESH-INTERVAL;VALUE=DURATION:PT1H
X-Robots-Tag:noindex
X-PUBLISHED-TTL:PT1H
BEGIN:VTIMEZONE
TZID:UTC
BEGIN:STANDARD
TZOFFSETFROM:+0000
TZOFFSETTO:+0000
TZNAME:UTC
DTSTART:20250101T000000
END:STANDARD
END:VTIMEZONE
BEGIN:VEVENT
DTSTART;TZID=UTC:20260223T110000
DTEND;TZID=UTC:20260223T113000
DTSTAMP:20260423T182208
CREATED:20260212T170121Z
LAST-MODIFIED:20260212T170121Z
UID:3201-1771844400-1771846200@krcctogether.com
SUMMARY:National Red Sock Day
DESCRIPTION:https://www.nationaldaycalendar.com/national-day/national-red-sock-day-third-saturday-in-february
URL:https://krcctogether.com/event/national-red-sock-day/
ORGANIZER;CN="KRCC Better Together":MAILTO:rolanda.gibson@krccnet.com
END:VEVENT
END:VCALENDAR