BEGIN:VCALENDAR
VERSION:2.0
PRODID:-//KRCC Better Together - ECPv6.15.20//NONSGML v1.0//EN
CALSCALE:GREGORIAN
METHOD:PUBLISH
X-WR-CALNAME:KRCC Better Together
X-ORIGINAL-URL:https://krcctogether.com
X-WR-CALDESC:Events for KRCC Better Together
REFRESH-INTERVAL;VALUE=DURATION:PT1H
X-Robots-Tag:noindex
X-PUBLISHED-TTL:PT1H
BEGIN:VTIMEZONE
TZID:UTC
BEGIN:STANDARD
TZOFFSETFROM:+0000
TZOFFSETTO:+0000
TZNAME:UTC
DTSTART:20250101T000000
END:STANDARD
END:VTIMEZONE
BEGIN:VEVENT
DTSTART;TZID=UTC:20260306T110000
DTEND;TZID=UTC:20260306T113000
DTSTAMP:20260423T182139
CREATED:20260302T161335Z
LAST-MODIFIED:20260302T161336Z
UID:3221-1772794800-1772796600@krcctogether.com
SUMMARY:Wear Blue to Support Colon Cancer Awareness & National Oreo Day
DESCRIPTION:https://www.nationaldaycalendar.com/national-day/national-dress-in-blue-day-first-friday-in-march
URL:https://krcctogether.com/event/wear-blue-to-support-colon-cancer-awareness-national-oreo-day/
ORGANIZER;CN="KRCC Better Together":MAILTO:rolanda.gibson@krccnet.com
END:VEVENT
END:VCALENDAR