BEGIN:VCALENDAR
VERSION:2.0
PRODID:-//KRCC Better Together - ECPv6.15.20//NONSGML v1.0//EN
CALSCALE:GREGORIAN
METHOD:PUBLISH
X-ORIGINAL-URL:https://krcctogether.com
X-WR-CALDESC:Events for KRCC Better Together
REFRESH-INTERVAL;VALUE=DURATION:PT1H
X-Robots-Tag:noindex
X-PUBLISHED-TTL:PT1H
BEGIN:VTIMEZONE
TZID:UTC
BEGIN:STANDARD
TZOFFSETFROM:+0000
TZOFFSETTO:+0000
TZNAME:UTC
DTSTART:20250101T000000
END:STANDARD
END:VTIMEZONE
BEGIN:VEVENT
DTSTART;TZID=UTC:20260420T110000
DTEND;TZID=UTC:20260420T113000
DTSTAMP:20260423T164015
CREATED:20260331T154133Z
LAST-MODIFIED:20260331T154134Z
UID:3284-1776682800-1776684600@krcctogether.com
SUMMARY:Warmer Weather and Our Mental Health
DESCRIPTION:
URL:https://krcctogether.com/event/warmer-weather-and-our-mental-health/
ORGANIZER;CN="KRCC Better Together":MAILTO:rolanda.gibson@krccnet.com
END:VEVENT
END:VCALENDAR