BEGIN:VCALENDAR
VERSION:2.0
PRODID:-//KRCC Better Together - ECPv6.15.20//NONSGML v1.0//EN
CALSCALE:GREGORIAN
METHOD:PUBLISH
X-WR-CALNAME:KRCC Better Together
X-ORIGINAL-URL:https://krcctogether.com
X-WR-CALDESC:Events for KRCC Better Together
REFRESH-INTERVAL;VALUE=DURATION:PT1H
X-Robots-Tag:noindex
X-PUBLISHED-TTL:PT1H
BEGIN:VTIMEZONE
TZID:UTC
BEGIN:STANDARD
TZOFFSETFROM:+0000
TZOFFSETTO:+0000
TZNAME:UTC
DTSTART:20240101T000000
END:STANDARD
END:VTIMEZONE
BEGIN:VEVENT
DTSTART;TZID=UTC:20251103T110000
DTEND;TZID=UTC:20251103T113000
DTSTAMP:20260423T231512
CREATED:20251031T061035Z
LAST-MODIFIED:20251031T061037Z
UID:3028-1762167600-1762169400@krcctogether.com
SUMMARY:What are we Thankful for?
DESCRIPTION:
URL:https://krcctogether.com/event/what-are-we-thankful-for/
ORGANIZER;CN="KRCC Better Together":MAILTO:rolanda.gibson@krccnet.com
END:VEVENT
BEGIN:VEVENT
DTSTART;TZID=UTC:20251104T110000
DTEND;TZID=UTC:20251104T113000
DTSTAMP:20260423T231512
CREATED:20251031T061108Z
LAST-MODIFIED:20251031T061108Z
UID:3030-1762254000-1762255800@krcctogether.com
SUMMARY:Talk about our favorite memories of the holiday season
DESCRIPTION:
URL:https://krcctogether.com/event/talk-about-our-favorite-memories-of-the-holiday-season/
ORGANIZER;CN="KRCC Better Together":MAILTO:rolanda.gibson@krccnet.com
END:VEVENT
BEGIN:VEVENT
DTSTART;TZID=UTC:20251105T110000
DTEND;TZID=UTC:20251105T113000
DTSTAMP:20260423T231512
CREATED:20251031T061201Z
LAST-MODIFIED:20251031T061203Z
UID:3032-1762340400-1762342200@krcctogether.com
SUMMARY:National Stress Awareness Day & National Donut Day
DESCRIPTION:https://www.nationaldaycalendar.com/national-day/national-stress-awareness-day-first-wednesday-in-november  &  https://www.nationaldaycalendar.com/national-day/national-donut-day-november-5
URL:https://krcctogether.com/event/national-stress-awareness-day-national-donut-day/
ORGANIZER;CN="KRCC Better Together":MAILTO:rolanda.gibson@krccnet.com
END:VEVENT
BEGIN:VEVENT
DTSTART;TZID=UTC:20251106T110000
DTEND;TZID=UTC:20251106T113000
DTSTAMP:20260423T231512
CREATED:20251031T061237Z
LAST-MODIFIED:20251031T061237Z
UID:3034-1762426800-1762428600@krcctogether.com
SUMMARY:Share your Favorite Recipe from your family traditions
DESCRIPTION:
URL:https://krcctogether.com/event/share-your-favorite-recipe-from-your-family-traditions/
ORGANIZER;CN="KRCC Better Together":MAILTO:rolanda.gibson@krccnet.com
END:VEVENT
BEGIN:VEVENT
DTSTART;TZID=UTC:20251107T110000
DTEND;TZID=UTC:20251107T113000
DTSTAMP:20260423T231512
CREATED:20251031T061343Z
LAST-MODIFIED:20251031T061345Z
UID:3036-1762513200-1762515000@krcctogether.com
SUMMARY:Friendly Friday 
DESCRIPTION:Use this day to catch up on what’s been going on at other centers and with friends at other centers
URL:https://krcctogether.com/event/friendly-friday/
ORGANIZER;CN="KRCC Better Together":MAILTO:rolanda.gibson@krccnet.com
END:VEVENT
BEGIN:VEVENT
DTSTART;TZID=UTC:20251110T110000
DTEND;TZID=UTC:20251110T113000
DTSTAMP:20260423T231512
CREATED:20251031T061534Z
LAST-MODIFIED:20251031T061536Z
UID:3038-1762772400-1762774200@krcctogether.com
SUMMARY:National Civic Pride Day
DESCRIPTION:https://www.nationaldaycalendar.com/national-day/national-civic-pride-day-november-10
URL:https://krcctogether.com/event/national-civic-pride-day/
ORGANIZER;CN="KRCC Better Together":MAILTO:rolanda.gibson@krccnet.com
END:VEVENT
BEGIN:VEVENT
DTSTART;TZID=UTC:20251111T110000
DTEND;TZID=UTC:20251111T113000
DTSTAMP:20260423T231512
CREATED:20251031T061719Z
LAST-MODIFIED:20251031T061720Z
UID:3040-1762858800-1762860600@krcctogether.com
SUMMARY:National Sundae Day
DESCRIPTION:https://www.nationaldaycalendar.com/national-day/national-sundae-day-november-11
URL:https://krcctogether.com/event/national-sundae-day/
ORGANIZER;CN="KRCC Better Together":MAILTO:rolanda.gibson@krccnet.com
END:VEVENT
BEGIN:VEVENT
DTSTART;TZID=UTC:20251112T110000
DTEND;TZID=UTC:20251112T113000
DTSTAMP:20260423T231512
CREATED:20251031T061817Z
LAST-MODIFIED:20251031T061818Z
UID:3042-1762945200-1762947000@krcctogether.com
SUMMARY:National Pizza with the Works Except Anchovies Day
DESCRIPTION:https://www.nationaldaycalendar.com/november/national-pizza-with-the-works-except-anchovies-day-november-12
URL:https://krcctogether.com/event/national-pizza-with-the-works-except-anchovies-day/
ORGANIZER;CN="KRCC Better Together":MAILTO:rolanda.gibson@krccnet.com
END:VEVENT
BEGIN:VEVENT
DTSTART;TZID=UTC:20251113T110000
DTEND;TZID=UTC:20251113T113000
DTSTAMP:20260423T231512
CREATED:20251031T061916Z
LAST-MODIFIED:20251031T061941Z
UID:3044-1763031600-1763033400@krcctogether.com
SUMMARY:Craft with Brenda
DESCRIPTION:
URL:https://krcctogether.com/event/craft-with-brenda/
ORGANIZER;CN="KRCC Better Together":MAILTO:rolanda.gibson@krccnet.com
END:VEVENT
BEGIN:VEVENT
DTSTART;TZID=UTC:20251114T110000
DTEND;TZID=UTC:20251114T113000
DTSTAMP:20260423T231512
CREATED:20251031T062142Z
LAST-MODIFIED:20251031T062144Z
UID:3046-1763118000-1763119800@krcctogether.com
SUMMARY:National Family PJ Day
DESCRIPTION:https://www.nationaldaycalendar.com/national-day/national-family-pj-day-november-14
URL:https://krcctogether.com/event/national-family-pj-day/
ORGANIZER;CN="KRCC Better Together":MAILTO:rolanda.gibson@krccnet.com
END:VEVENT
BEGIN:VEVENT
DTSTART;TZID=UTC:20251117T110000
DTEND;TZID=UTC:20251117T113000
DTSTAMP:20260423T231512
CREATED:20251116T074349Z
LAST-MODIFIED:20251116T074350Z
UID:3049-1763377200-1763379000@krcctogether.com
SUMMARY:National Button Day
DESCRIPTION:https://www.nationaldaycalendar.com/national-day/national-button-day-november-17
URL:https://krcctogether.com/event/national-button-day/
ORGANIZER;CN="KRCC Better Together":MAILTO:rolanda.gibson@krccnet.com
END:VEVENT
BEGIN:VEVENT
DTSTART;TZID=UTC:20251118T110000
DTEND;TZID=UTC:20251118T113000
DTSTAMP:20260423T231512
CREATED:20251116T074442Z
LAST-MODIFIED:20251116T074442Z
UID:3051-1763463600-1763465400@krcctogether.com
SUMMARY:Mickey Mouse Birthday
DESCRIPTION:https://www.nationaldaycalendar.com/national-day/mickey-mouse-birthday-november-18
URL:https://krcctogether.com/event/mickey-mouse-birthday/
ORGANIZER;CN="KRCC Better Together":MAILTO:rolanda.gibson@krccnet.com
END:VEVENT
BEGIN:VEVENT
DTSTART;TZID=UTC:20251119T110000
DTEND;TZID=UTC:20251119T113000
DTSTAMP:20260423T231512
CREATED:20251116T074531Z
LAST-MODIFIED:20251116T074531Z
UID:3053-1763550000-1763551800@krcctogether.com
SUMMARY:National Play Monopoly Day
DESCRIPTION:https://www.nationaldaycalendar.com/national-day/national-play-monopoly-day-november-19
URL:https://krcctogether.com/event/national-play-monopoly-day-2/
ORGANIZER;CN="KRCC Better Together":MAILTO:rolanda.gibson@krccnet.com
END:VEVENT
BEGIN:VEVENT
DTSTART;TZID=UTC:20251120T110000
DTEND;TZID=UTC:20251120T113000
DTSTAMP:20260423T231512
CREATED:20251116T074604Z
LAST-MODIFIED:20251116T074605Z
UID:3055-1763636400-1763638200@krcctogether.com
SUMMARY:National Rural Health Day
DESCRIPTION:https://www.nationaldaycalendar.com/national-day/national-rural-health-day-third-thursday-in-november
URL:https://krcctogether.com/event/national-rural-health-day/
ORGANIZER;CN="KRCC Better Together":MAILTO:rolanda.gibson@krccnet.com
END:VEVENT
BEGIN:VEVENT
DTSTART;TZID=UTC:20251121T110000
DTEND;TZID=UTC:20251121T113000
DTSTAMP:20260423T231512
CREATED:20251116T074640Z
LAST-MODIFIED:20251116T074640Z
UID:3057-1763722800-1763724600@krcctogether.com
SUMMARY:National Gingerbread Cookie Day
DESCRIPTION:https://www.nationaldaycalendar.com/national-day/national-gingerbread-cookie-day-november-21
URL:https://krcctogether.com/event/national-gingerbread-cookie-day/
ORGANIZER;CN="KRCC Better Together":MAILTO:rolanda.gibson@krccnet.com
END:VEVENT
BEGIN:VEVENT
DTSTART;TZID=UTC:20251124T110000
DTEND;TZID=UTC:20251124T113000
DTSTAMP:20260423T231512
CREATED:20251116T074723Z
LAST-MODIFIED:20251116T074723Z
UID:3059-1763982000-1763983800@krcctogether.com
SUMMARY:National Adoption Day
DESCRIPTION:https://www.nationaldaycalendar.com/national-day/national-adoption-day-saturday-before-thanksgiving
URL:https://krcctogether.com/event/national-adoption-day/
ORGANIZER;CN="KRCC Better Together":MAILTO:rolanda.gibson@krccnet.com
END:VEVENT
BEGIN:VEVENT
DTSTART;TZID=UTC:20251125T110000
DTEND;TZID=UTC:20251125T113000
DTSTAMP:20260423T231512
CREATED:20251116T074851Z
LAST-MODIFIED:20251116T074852Z
UID:3061-1764068400-1764070200@krcctogether.com
SUMMARY:Blasé Day
DESCRIPTION:https://www.nationaldaycalendar.com/national-day/blase-day-november-25
URL:https://krcctogether.com/event/blase-day/
ORGANIZER;CN="KRCC Better Together":MAILTO:rolanda.gibson@krccnet.com
END:VEVENT
BEGIN:VEVENT
DTSTART;TZID=UTC:20251126T110000
DTEND;TZID=UTC:20251126T113000
DTSTAMP:20260423T231512
CREATED:20251116T074946Z
LAST-MODIFIED:20251116T074947Z
UID:3063-1764154800-1764156600@krcctogether.com
SUMMARY:National Tie One On Day - Day Before Thanksgiving
DESCRIPTION:https://www.nationaldaycalendar.com/national-day/national-tie-one-on-day-day-before-thanksgiving
URL:https://krcctogether.com/event/national-tie-one-on-day-day-before-thanksgiving/
ORGANIZER;CN="KRCC Better Together":MAILTO:rolanda.gibson@krccnet.com
END:VEVENT
BEGIN:VEVENT
DTSTART;TZID=UTC:20251127T000000
DTEND;TZID=UTC:20251128T235959
DTSTAMP:20260423T231512
CREATED:20251116T075037Z
LAST-MODIFIED:20251116T075038Z
UID:3065-1764201600-1764374399@krcctogether.com
SUMMARY:(CLOSED) Happy Thanksgiving!
DESCRIPTION:
URL:https://krcctogether.com/event/closed-happy-thanksgiving/
END:VEVENT
END:VCALENDAR