BEGIN:VCALENDAR
VERSION:2.0
PRODID:-//KRCC Better Together - ECPv6.15.20//NONSGML v1.0//EN
CALSCALE:GREGORIAN
METHOD:PUBLISH
X-WR-CALNAME:KRCC Better Together
X-ORIGINAL-URL:https://krcctogether.com
X-WR-CALDESC:Events for KRCC Better Together
REFRESH-INTERVAL;VALUE=DURATION:PT1H
X-Robots-Tag:noindex
X-PUBLISHED-TTL:PT1H
BEGIN:VTIMEZONE
TZID:UTC
BEGIN:STANDARD
TZOFFSETFROM:+0000
TZOFFSETTO:+0000
TZNAME:UTC
DTSTART:20250101T000000
END:STANDARD
END:VTIMEZONE
BEGIN:VEVENT
DTSTART;TZID=UTC:20260102T110000
DTEND;TZID=UTC:20260102T113000
DTSTAMP:20260423T200340
CREATED:20260101T062346Z
LAST-MODIFIED:20260101T062347Z
UID:3120-1767351600-1767353400@krcctogether.com
SUMMARY:National Science Fiction Day
DESCRIPTION:https://www.nationaldaycalendar.com/national-day/national-science-fiction-day-january-2
URL:https://krcctogether.com/event/national-science-fiction-day/
ORGANIZER;CN="KRCC Better Together":MAILTO:rolanda.gibson@krccnet.com
END:VEVENT
BEGIN:VEVENT
DTSTART;TZID=UTC:20260105T110000
DTEND;TZID=UTC:20260105T113000
DTSTAMP:20260423T200340
CREATED:20260101T062615Z
LAST-MODIFIED:20260101T062615Z
UID:3122-1767610800-1767612600@krcctogether.com
SUMMARY:New Year New Me
DESCRIPTION:
URL:https://krcctogether.com/event/new-year-new-me/
ORGANIZER;CN="KRCC Better Together":MAILTO:rolanda.gibson@krccnet.com
END:VEVENT
BEGIN:VEVENT
DTSTART;TZID=UTC:20260106T110000
DTEND;TZID=UTC:20260106T113000
DTSTAMP:20260423T200340
CREATED:20260105T060131Z
LAST-MODIFIED:20260105T060131Z
UID:3125-1767697200-1767699000@krcctogether.com
SUMMARY:National Technology Day
DESCRIPTION:https://www.nationaldaycalendar.com/national-day/national-technology-day-january-6
URL:https://krcctogether.com/event/national-technology-day/
ORGANIZER;CN="KRCC Better Together":MAILTO:rolanda.gibson@krccnet.com
END:VEVENT
BEGIN:VEVENT
DTSTART;TZID=UTC:20260107T110000
DTEND;TZID=UTC:20260107T113000
DTSTAMP:20260423T200340
CREATED:20260105T060205Z
LAST-MODIFIED:20260105T060205Z
UID:3127-1767783600-1767785400@krcctogether.com
SUMMARY:The Importance of Staying Active
DESCRIPTION:
URL:https://krcctogether.com/event/the-importance-of-staying-active/
ORGANIZER;CN="KRCC Better Together":MAILTO:rolanda.gibson@krccnet.com
END:VEVENT
BEGIN:VEVENT
DTSTART;TZID=UTC:20260108T110000
DTEND;TZID=UTC:20260108T113000
DTSTAMP:20260423T200340
CREATED:20260105T060244Z
LAST-MODIFIED:20260105T060245Z
UID:3129-1767870000-1767871800@krcctogether.com
SUMMARY:National English Toffee Day
DESCRIPTION:https://www.nationaldaycalendar.com/national-day/national-english-toffee-day-january-8
URL:https://krcctogether.com/event/national-english-toffee-day/
ORGANIZER;CN="KRCC Better Together":MAILTO:rolanda.gibson@krccnet.com
END:VEVENT
BEGIN:VEVENT
DTSTART;TZID=UTC:20260109T110000
DTEND;TZID=UTC:20260109T113000
DTSTAMP:20260423T200340
CREATED:20260105T060329Z
LAST-MODIFIED:20260105T060329Z
UID:3131-1767956400-1767958200@krcctogether.com
SUMMARY:National Law Enforcement Appreciation Day
DESCRIPTION:https://www.nationaldaycalendar.com/national-day/national-law-enforcement-appreciation-day-january-9
URL:https://krcctogether.com/event/national-law-enforcement-appreciation-day-2/
ORGANIZER;CN="KRCC Better Together":MAILTO:rolanda.gibson@krccnet.com
END:VEVENT
BEGIN:VEVENT
DTSTART;TZID=UTC:20260112T110000
DTEND;TZID=UTC:20260112T113000
DTSTAMP:20260423T200340
CREATED:20260105T060409Z
LAST-MODIFIED:20260105T060409Z
UID:3133-1768215600-1768217400@krcctogether.com
SUMMARY:National Houseplant Appreciation Day
DESCRIPTION:https://www.nationaldaycalendar.com/national-day/national-houseplant-appreciation-day-january-10
URL:https://krcctogether.com/event/national-houseplant-appreciation-day/
ORGANIZER;CN="KRCC Better Together":MAILTO:rolanda.gibson@krccnet.com
END:VEVENT
BEGIN:VEVENT
DTSTART;TZID=UTC:20260113T110000
DTEND;TZID=UTC:20260113T113000
DTSTAMP:20260423T200340
CREATED:20260105T060448Z
LAST-MODIFIED:20260105T060448Z
UID:3137-1768302000-1768303800@krcctogether.com
SUMMARY:National Sticker Day
DESCRIPTION:https://www.nationaldaycalendar.com/national-day/national-sticker-day-january-13
URL:https://krcctogether.com/event/national-sticker-day/
ORGANIZER;CN="KRCC Better Together":MAILTO:rolanda.gibson@krccnet.com
END:VEVENT
BEGIN:VEVENT
DTSTART;TZID=UTC:20260114T110000
DTEND;TZID=UTC:20260114T113000
DTSTAMP:20260423T200340
CREATED:20260105T060538Z
LAST-MODIFIED:20260105T060538Z
UID:3139-1768388400-1768390200@krcctogether.com
SUMMARY:National Dress Up Your Pet Day
DESCRIPTION:https://www.nationaldaycalendar.com/national-day/national-dress-up-your-pet-day-january-14
URL:https://krcctogether.com/event/national-dress-up-your-pet-day/
ORGANIZER;CN="KRCC Better Together":MAILTO:rolanda.gibson@krccnet.com
END:VEVENT
BEGIN:VEVENT
DTSTART;TZID=UTC:20260115T110000
DTEND;TZID=UTC:20260115T113000
DTSTAMP:20260423T200340
CREATED:20260105T060620Z
LAST-MODIFIED:20260105T060620Z
UID:3141-1768474800-1768476600@krcctogether.com
SUMMARY:National Hat Day
DESCRIPTION:https://www.nationaldaycalendar.com/national-day/national-hat-day-january-15
URL:https://krcctogether.com/event/national-hat-day-2/
ORGANIZER;CN="KRCC Better Together":MAILTO:rolanda.gibson@krccnet.com
END:VEVENT
BEGIN:VEVENT
DTSTART;TZID=UTC:20260116T110000
DTEND;TZID=UTC:20260116T113000
DTSTAMP:20260423T200340
CREATED:20260105T060659Z
LAST-MODIFIED:20260105T060700Z
UID:3143-1768561200-1768563000@krcctogether.com
SUMMARY:National Religious Freedom Day
DESCRIPTION:https://www.nationaldaycalendar.com/national-day/national-religious-freedom-day-january-16
URL:https://krcctogether.com/event/national-religious-freedom-day/
ORGANIZER;CN="KRCC Better Together":MAILTO:rolanda.gibson@krccnet.com
END:VEVENT
BEGIN:VEVENT
DTSTART;TZID=UTC:20260119T110000
DTEND;TZID=UTC:20260119T113000
DTSTAMP:20260423T200340
CREATED:20260105T061033Z
LAST-MODIFIED:20260105T061033Z
UID:3145-1768820400-1768822200@krcctogether.com
SUMMARY:National Imagination Day
DESCRIPTION:https://www.nationaldaycalendar.com/national-day/national-imagination-day-january-19
URL:https://krcctogether.com/event/national-imagination-day/
ORGANIZER;CN="KRCC Better Together":MAILTO:rolanda.gibson@krccnet.com
END:VEVENT
BEGIN:VEVENT
DTSTART;TZID=UTC:20260120T110000
DTEND;TZID=UTC:20260120T113000
DTSTAMP:20260423T200340
CREATED:20260105T061125Z
LAST-MODIFIED:20260105T061125Z
UID:3147-1768906800-1768908600@krcctogether.com
SUMMARY:National Thesaurus Day
DESCRIPTION:https://www.nationaldaycalendar.com/national-day/national-thesaurus-day-january-18
URL:https://krcctogether.com/event/national-thesaurus-day/
ORGANIZER;CN="KRCC Better Together":MAILTO:rolanda.gibson@krccnet.com
END:VEVENT
BEGIN:VEVENT
DTSTART;TZID=UTC:20260121T110000
DTEND;TZID=UTC:20260121T113000
DTSTAMP:20260423T200340
CREATED:20260105T061156Z
LAST-MODIFIED:20260105T061156Z
UID:3149-1768993200-1768995000@krcctogether.com
SUMMARY:Emotional Wellness
DESCRIPTION:
URL:https://krcctogether.com/event/emotional-wellness/
ORGANIZER;CN="KRCC Better Together":MAILTO:rolanda.gibson@krccnet.com
END:VEVENT
BEGIN:VEVENT
DTSTART;TZID=UTC:20260122T110000
DTEND;TZID=UTC:20260122T113000
DTSTAMP:20260423T200340
CREATED:20260105T061242Z
LAST-MODIFIED:20260105T061242Z
UID:3151-1769079600-1769081400@krcctogether.com
SUMMARY:National Compliment Day
DESCRIPTION:https://www.nationaldaycalendar.com/national-day/national-compliment-day-january-24
URL:https://krcctogether.com/event/national-compliment-day-3/
ORGANIZER;CN="KRCC Better Together":MAILTO:rolanda.gibson@krccnet.com
END:VEVENT
BEGIN:VEVENT
DTSTART;TZID=UTC:20260123T110000
DTEND;TZID=UTC:20260123T113000
DTSTAMP:20260423T200340
CREATED:20260105T061334Z
LAST-MODIFIED:20260105T061334Z
UID:3153-1769166000-1769167800@krcctogether.com
SUMMARY:National Pie Day
DESCRIPTION:https://www.nationaldaycalendar.com/national-day/national-pie-day-january-23
URL:https://krcctogether.com/event/national-pie-day-4/
ORGANIZER;CN="KRCC Better Together":MAILTO:rolanda.gibson@krccnet.com
END:VEVENT
BEGIN:VEVENT
DTSTART;TZID=UTC:20260126T110000
DTEND;TZID=UTC:20260126T113000
DTSTAMP:20260423T200340
CREATED:20260105T061410Z
LAST-MODIFIED:20260105T061410Z
UID:3155-1769425200-1769427000@krcctogether.com
SUMMARY:National Opposite Day
DESCRIPTION:https://www.nationaldaycalendar.com/national-day/national-opposite-day-january-25
URL:https://krcctogether.com/event/national-opposite-day/
ORGANIZER;CN="KRCC Better Together":MAILTO:rolanda.gibson@krccnet.com
END:VEVENT
BEGIN:VEVENT
DTSTART;TZID=UTC:20260127T110000
DTEND;TZID=UTC:20260127T113000
DTSTAMP:20260423T200340
CREATED:20260105T061453Z
LAST-MODIFIED:20260105T061453Z
UID:3157-1769511600-1769513400@krcctogether.com
SUMMARY:Inspire Your Heart With Art Day
DESCRIPTION:https://www.nationaldaycalendar.com/national-day/inspire-your-heart-with-art-day-january-31
URL:https://krcctogether.com/event/inspire-your-heart-with-art-day-3/
ORGANIZER;CN="KRCC Better Together":MAILTO:rolanda.gibson@krccnet.com
END:VEVENT
BEGIN:VEVENT
DTSTART;TZID=UTC:20260128T110000
DTEND;TZID=UTC:20260128T113000
DTSTAMP:20260423T200340
CREATED:20260105T061537Z
LAST-MODIFIED:20260105T061537Z
UID:3159-1769598000-1769599800@krcctogether.com
SUMMARY:Data Privacy Day
DESCRIPTION:https://www.nationaldaycalendar.com/national-day/data-privacy-day-january-28
URL:https://krcctogether.com/event/data-privacy-day/
ORGANIZER;CN="KRCC Better Together":MAILTO:rolanda.gibson@krccnet.com
END:VEVENT
BEGIN:VEVENT
DTSTART;TZID=UTC:20260129T110000
DTEND;TZID=UTC:20260129T113000
DTSTAMP:20260423T200340
CREATED:20260105T061634Z
LAST-MODIFIED:20260105T061635Z
UID:3161-1769684400-1769686200@krcctogether.com
SUMMARY:National Puzzle Day
DESCRIPTION:https://www.nationaldaycalendar.com/national-day/national-puzzle-day-january-29
URL:https://krcctogether.com/event/national-puzzle-day-3/
ORGANIZER;CN="KRCC Better Together":MAILTO:rolanda.gibson@krccnet.com
END:VEVENT
BEGIN:VEVENT
DTSTART;TZID=UTC:20260130T110000
DTEND;TZID=UTC:20260130T113000
DTSTAMP:20260423T200340
CREATED:20260105T061716Z
LAST-MODIFIED:20260105T061717Z
UID:3163-1769770800-1769772600@krcctogether.com
SUMMARY:Make Groundhog Day Predictions
DESCRIPTION:
URL:https://krcctogether.com/event/make-groundhog-day-predictions/
ORGANIZER;CN="KRCC Better Together":MAILTO:rolanda.gibson@krccnet.com
END:VEVENT
END:VCALENDAR