BEGIN:VCALENDAR
VERSION:2.0
PRODID:-//KRCC Better Together - ECPv6.15.20//NONSGML v1.0//EN
CALSCALE:GREGORIAN
METHOD:PUBLISH
X-WR-CALNAME:KRCC Better Together
X-ORIGINAL-URL:https://krcctogether.com
X-WR-CALDESC:Events for KRCC Better Together
REFRESH-INTERVAL;VALUE=DURATION:PT1H
X-Robots-Tag:noindex
X-PUBLISHED-TTL:PT1H
BEGIN:VTIMEZONE
TZID:UTC
BEGIN:STANDARD
TZOFFSETFROM:+0000
TZOFFSETTO:+0000
TZNAME:UTC
DTSTART:20250101T000000
END:STANDARD
END:VTIMEZONE
BEGIN:VEVENT
DTSTART;TZID=UTC:20260302T110000
DTEND;TZID=UTC:20260302T113000
DTSTAMP:20260423T164010
CREATED:20260302T045642Z
LAST-MODIFIED:20260302T045643Z
UID:3212-1772449200-1772451000@krcctogether.com
SUMMARY:Read Across America Day
DESCRIPTION:https://www.nationaldaycalendar.com/national-day/national-read-across-america-day-dr-seuss-day-march-2-unless-weekend
URL:https://krcctogether.com/event/read-across-america-day/
ORGANIZER;CN="KRCC Better Together":MAILTO:rolanda.gibson@krccnet.com
END:VEVENT
BEGIN:VEVENT
DTSTART;TZID=UTC:20260303T110000
DTEND;TZID=UTC:20260303T113000
DTSTAMP:20260423T164010
CREATED:20260302T050401Z
LAST-MODIFIED:20260302T050401Z
UID:3214-1772535600-1772537400@krcctogether.com
SUMMARY:I Want You to Be Happy
DESCRIPTION:https://www.nationaldaycalendar.com/national-day/national-i-want-you-to-be-happy-day-march-3
URL:https://krcctogether.com/event/i-want-you-to-be-happy/
ORGANIZER;CN="KRCC Better Together":MAILTO:rolanda.gibson@krccnet.com
END:VEVENT
BEGIN:VEVENT
DTSTART;TZID=UTC:20260304T110000
DTEND;TZID=UTC:20260304T113000
DTSTAMP:20260423T164010
CREATED:20260302T161105Z
LAST-MODIFIED:20260302T161106Z
UID:3217-1772622000-1772623800@krcctogether.com
SUMMARY:National Pound Cake Day
DESCRIPTION:https://www.nationaldaycalendar.com/national-day/national-pound-cake-day-march-4
URL:https://krcctogether.com/event/national-pound-cake-day/
ORGANIZER;CN="KRCC Better Together":MAILTO:rolanda.gibson@krccnet.com
END:VEVENT
BEGIN:VEVENT
DTSTART;TZID=UTC:20260305T110000
DTEND;TZID=UTC:20260305T113000
DTSTAMP:20260423T164010
CREATED:20260302T161147Z
LAST-MODIFIED:20260302T161148Z
UID:3219-1772708400-1772710200@krcctogether.com
SUMMARY:National Multiple Personality Day
DESCRIPTION:https://www.nationaldaycalendar.com/national-day/national-multiple-personality-day-march-5
URL:https://krcctogether.com/event/national-multiple-personality-day/
ORGANIZER;CN="KRCC Better Together":MAILTO:rolanda.gibson@krccnet.com
END:VEVENT
BEGIN:VEVENT
DTSTART;TZID=UTC:20260306T110000
DTEND;TZID=UTC:20260306T113000
DTSTAMP:20260423T164010
CREATED:20260302T161335Z
LAST-MODIFIED:20260302T161336Z
UID:3221-1772794800-1772796600@krcctogether.com
SUMMARY:Wear Blue to Support Colon Cancer Awareness & National Oreo Day
DESCRIPTION:https://www.nationaldaycalendar.com/national-day/national-dress-in-blue-day-first-friday-in-march
URL:https://krcctogether.com/event/wear-blue-to-support-colon-cancer-awareness-national-oreo-day/
ORGANIZER;CN="KRCC Better Together":MAILTO:rolanda.gibson@krccnet.com
END:VEVENT
BEGIN:VEVENT
DTSTART;TZID=UTC:20260309T110000
DTEND;TZID=UTC:20260309T113000
DTSTAMP:20260423T164010
CREATED:20260302T161424Z
LAST-MODIFIED:20260302T161424Z
UID:3223-1773054000-1773055800@krcctogether.com
SUMMARY:Get Over It Day
DESCRIPTION:https://www.nationaldaycalendar.com/national-day/national-get-over-it-day-march-9
URL:https://krcctogether.com/event/get-over-it-day/
ORGANIZER;CN="KRCC Better Together":MAILTO:rolanda.gibson@krccnet.com
END:VEVENT
BEGIN:VEVENT
DTSTART;TZID=UTC:20260310T110000
DTEND;TZID=UTC:20260310T113000
DTSTAMP:20260423T164010
CREATED:20260302T161503Z
LAST-MODIFIED:20260302T161504Z
UID:3225-1773140400-1773142200@krcctogether.com
SUMMARY:National Mario Day
DESCRIPTION:https://www.nationaldaycalendar.com/national-day/national-mario-day-march-10
URL:https://krcctogether.com/event/national-mario-day-2/
ORGANIZER;CN="KRCC Better Together":MAILTO:rolanda.gibson@krccnet.com
END:VEVENT
BEGIN:VEVENT
DTSTART;TZID=UTC:20260311T110000
DTEND;TZID=UTC:20260311T113000
DTSTAMP:20260423T164010
CREATED:20260302T161545Z
LAST-MODIFIED:20260302T161545Z
UID:3227-1773226800-1773228600@krcctogether.com
SUMMARY:Johnny Appleseed Day
DESCRIPTION:https://www.nationaldaycalendar.com/national-day/national-johnny-appleseed-day-march-11
URL:https://krcctogether.com/event/johnny-appleseed-day/
ORGANIZER;CN="KRCC Better Together":MAILTO:rolanda.gibson@krccnet.com
END:VEVENT
BEGIN:VEVENT
DTSTART;TZID=UTC:20260312T110000
DTEND;TZID=UTC:20260312T113000
DTSTAMP:20260423T164010
CREATED:20260302T161622Z
LAST-MODIFIED:20260302T161622Z
UID:3229-1773313200-1773315000@krcctogether.com
SUMMARY:National Popcorn Lovers Day
DESCRIPTION:https://www.nationaldaycalendar.com/march/national-popcorn-lovers-day-second-thursday-in-march
URL:https://krcctogether.com/event/national-popcorn-lovers-day/
ORGANIZER;CN="KRCC Better Together":MAILTO:rolanda.gibson@krccnet.com
END:VEVENT
BEGIN:VEVENT
DTSTART;TZID=UTC:20260313T110000
DTEND;TZID=UTC:20260313T113000
DTSTAMP:20260423T164010
CREATED:20260302T161656Z
LAST-MODIFIED:20260302T161657Z
UID:3231-1773399600-1773401400@krcctogether.com
SUMMARY:Good Samaritan Day
DESCRIPTION:https://www.nationaldaycalendar.com/national-day/national-good-samaritan-day-march-13
URL:https://krcctogether.com/event/good-samaritan-day/
ORGANIZER;CN="KRCC Better Together":MAILTO:rolanda.gibson@krccnet.com
END:VEVENT
BEGIN:VEVENT
DTSTART;TZID=UTC:20260316T110000
DTEND;TZID=UTC:20260316T113000
DTSTAMP:20260423T164010
CREATED:20260302T161731Z
LAST-MODIFIED:20260302T161732Z
UID:3233-1773658800-1773660600@krcctogether.com
SUMMARY:National Write Down Your Story Day
DESCRIPTION:https://www.nationaldaycalendar.com/national-day/national-write-down-your-story-day-march-14
URL:https://krcctogether.com/event/national-write-down-your-story-day/
ORGANIZER;CN="KRCC Better Together":MAILTO:rolanda.gibson@krccnet.com
END:VEVENT
BEGIN:VEVENT
DTSTART;TZID=UTC:20260317T110000
DTEND;TZID=UTC:20260317T113000
DTSTAMP:20260423T164010
CREATED:20260302T161809Z
LAST-MODIFIED:20260302T161809Z
UID:3235-1773745200-1773747000@krcctogether.com
SUMMARY:St. Patrick's Day
DESCRIPTION:https://www.nationaldaycalendar.com/national-day/st-patricks-day-march-17th
URL:https://krcctogether.com/event/st-patricks-day-3/
ORGANIZER;CN="KRCC Better Together":MAILTO:rolanda.gibson@krccnet.com
END:VEVENT
BEGIN:VEVENT
DTSTART;TZID=UTC:20260318T110000
DTEND;TZID=UTC:20260318T113000
DTSTAMP:20260423T164010
CREATED:20260302T161919Z
LAST-MODIFIED:20260302T161919Z
UID:3237-1773831600-1773833400@krcctogether.com
SUMMARY:National Awkward Moments Day & Oatmeal Cookie Day
DESCRIPTION:https://www.nationaldaycalendar.com/national-day/national-awkward-moments-day-march-18
URL:https://krcctogether.com/event/national-awkward-moments-day-oatmeal-cookie-day/
ORGANIZER;CN="KRCC Better Together":MAILTO:rolanda.gibson@krccnet.com
END:VEVENT
BEGIN:VEVENT
DTSTART;TZID=UTC:20260319T110000
DTEND;TZID=UTC:20260319T113000
DTSTAMP:20260423T164010
CREATED:20260302T162003Z
LAST-MODIFIED:20260302T162004Z
UID:3239-1773918000-1773919800@krcctogether.com
SUMMARY:Let's Laugh Day
DESCRIPTION:https://www.nationaldaycalendar.com/national-day/lets-laugh-day-march-19
URL:https://krcctogether.com/event/lets-laugh-day/
ORGANIZER;CN="KRCC Better Together":MAILTO:rolanda.gibson@krccnet.com
END:VEVENT
BEGIN:VEVENT
DTSTART;TZID=UTC:20260320T110000
DTEND;TZID=UTC:20260320T113000
DTSTAMP:20260423T164010
CREATED:20260302T162051Z
LAST-MODIFIED:20260302T162051Z
UID:3241-1774004400-1774006200@krcctogether.com
SUMMARY:Spring Begins
DESCRIPTION:https://www.nationaldaycalendar.com/march/spring-begins-changes-annually
URL:https://krcctogether.com/event/spring-begins/
ORGANIZER;CN="KRCC Better Together":MAILTO:rolanda.gibson@krccnet.com
END:VEVENT
BEGIN:VEVENT
DTSTART;TZID=UTC:20260323T110000
DTEND;TZID=UTC:20260323T113000
DTSTAMP:20260423T164010
CREATED:20260302T162151Z
LAST-MODIFIED:20260302T162152Z
UID:3243-1774263600-1774265400@krcctogether.com
SUMMARY:National Health Care Rights Day
DESCRIPTION:https://www.nationaldaycalendar.com/national-day/national-health-care-rights-day-march-22
URL:https://krcctogether.com/event/national-health-care-rights-day/
ORGANIZER;CN="KRCC Better Together":MAILTO:rolanda.gibson@krccnet.com
END:VEVENT
BEGIN:VEVENT
DTSTART;TZID=UTC:20260324T110000
DTEND;TZID=UTC:20260324T113000
DTSTAMP:20260423T164010
CREATED:20260302T162250Z
LAST-MODIFIED:20260302T162251Z
UID:3245-1774350000-1774351800@krcctogether.com
SUMMARY:American Diabetes Association Alert Day
DESCRIPTION:https://www.nationaldaycalendar.com/march/american-diabetes-association-alert-day-fourth-tuesday-in-march
URL:https://krcctogether.com/event/american-diabetes-association-alert-day/
ORGANIZER;CN="KRCC Better Together":MAILTO:rolanda.gibson@krccnet.com
END:VEVENT
BEGIN:VEVENT
DTSTART;TZID=UTC:20260325T110000
DTEND;TZID=UTC:20260325T113000
DTSTAMP:20260423T164010
CREATED:20260302T162321Z
LAST-MODIFIED:20260302T162321Z
UID:3247-1774436400-1774438200@krcctogether.com
SUMMARY:Tolkien Reading Day
DESCRIPTION:https://www.nationaldaycalendar.com/national-day/tolkien-reading-day-march-25
URL:https://krcctogether.com/event/tolkien-reading-day/
ORGANIZER;CN="KRCC Better Together":MAILTO:rolanda.gibson@krccnet.com
END:VEVENT
BEGIN:VEVENT
DTSTART;TZID=UTC:20260326T110000
DTEND;TZID=UTC:20260326T113000
DTSTAMP:20260423T164010
CREATED:20260302T162401Z
LAST-MODIFIED:20260302T162402Z
UID:3249-1774522800-1774524600@krcctogether.com
SUMMARY:National Weeds Appreciation Day (Native Plants and Flowers)
DESCRIPTION:https://www.nationaldaycalendar.com/national-day/national-weed-appreciation-day-march-28
URL:https://krcctogether.com/event/national-weeds-appreciation-day-native-plants-and-flowers/
ORGANIZER;CN="KRCC Better Together":MAILTO:rolanda.gibson@krccnet.com
END:VEVENT
BEGIN:VEVENT
DTSTART;TZID=UTC:20260327T110000
DTEND;TZID=UTC:20260327T113000
DTSTAMP:20260423T164010
CREATED:20260302T162446Z
LAST-MODIFIED:20260302T162447Z
UID:3251-1774609200-1774611000@krcctogether.com
SUMMARY:National Mom and Pop Business Owners Day
DESCRIPTION:https://www.nationaldaycalendar.com/national-day/national-mom-and-pop-business-owners-day-march-29
URL:https://krcctogether.com/event/national-mom-and-pop-business-owners-day/
ORGANIZER;CN="KRCC Better Together":MAILTO:rolanda.gibson@krccnet.com
END:VEVENT
BEGIN:VEVENT
DTSTART;TZID=UTC:20260330T110000
DTEND;TZID=UTC:20260330T113000
DTSTAMP:20260423T164010
CREATED:20260302T162536Z
LAST-MODIFIED:20260302T162537Z
UID:3253-1774868400-1774870200@krcctogether.com
SUMMARY:Walk in the Park Day (Weather Permitting ) I am in Control Day
DESCRIPTION:https://www.nationaldaycalendar.com/national-day/national-take-a-walk-in-the-park-day-march-30https://www.nationaldaycalendar.com/national-day/national-i-am-in-control-day-march-30
URL:https://krcctogether.com/event/walk-in-the-park-day-weather-permitting-i-am-in-control-day/
ORGANIZER;CN="KRCC Better Together":MAILTO:rolanda.gibson@krccnet.com
END:VEVENT
BEGIN:VEVENT
DTSTART;TZID=UTC:20260331T110000
DTEND;TZID=UTC:20260331T113000
DTSTAMP:20260423T164010
CREATED:20260302T162612Z
LAST-MODIFIED:20260302T162613Z
UID:3255-1774954800-1774956600@krcctogether.com
SUMMARY:National Tater Day
DESCRIPTION:https://www.nationaldaycalendar.com/national-day/national-tater-day-march-31
URL:https://krcctogether.com/event/national-tater-day-2/
ORGANIZER;CN="KRCC Better Together":MAILTO:rolanda.gibson@krccnet.com
END:VEVENT
END:VCALENDAR